BEGIN:VCALENDAR
VERSION:2.0
PRODID:-//ChamberMaster//Event Calendar 2.0//EN
METHOD:PUBLISH
X-PUBLISHED-TTL:P3D
REFRESH-INTERVAL:P3D
CALSCALE:GREGORIAN
BEGIN:VEVENT
DTSTART;VALUE=DATE:20141026
DTEND;VALUE=DATE:20141027
TRANSP:TRANSPARENT
X-MICROSOFT-CDO-ALLDAYEVENT:TRUE
SUMMARY:2014 Beachwood 5K Run - Celebrating Healthcare in the Beachwood Community
DESCRIPTION:This event has been canceled by the Cleveland Clinic.\n\n\n\nPresented by:  Cleveland Clinic - Beachwood Family Health & Surgery Center and the Beachwood Convention & Vistors Bureau\, in collaboration with Beachwood Chamber of Commerce\, City of Beachwood and Beachwood Schools\; as part of Food\, Fun and Fashion Week\n\n\n\n2014 Beachwood 5K Run\n\nFeaturing B Tag Chip Timing from\n\nHermes Sports & Events\n\n\n\nSunday\, October 26\, 2014
X-ALT-DESC;FMTTYPE=text/html:<span style="font-size:24px\;"><em><u><strong>This event has been canceled by the Cleveland Clinic.</strong></u></em></span><br />\n<br />\nPresented by:&nbsp\; Cleveland Clinic - Beachwood Family Health &amp\; Surgery Center and the Beachwood Convention &amp\; Vistors Bureau\, in collaboration with Beachwood Chamber of Commerce\, City of Beachwood and Beachwood Schools\; as part of Food\, Fun and Fashion Week<br />\n<br />\n2014 Beachwood 5K Run<br />\nFeaturing B Tag Chip Timing from<br />\nHermes Sports &amp\; Events<br />\n<br />\nSunday\, October 26\, 2014
LOCATION:The run will begin and end at: Fairmont School 24601 Fairmont Blvd Beachwood\, OH 44122 Parking: Parking onsite at Fairmont School. Parking is also available at the Beachwood Aquatic Center (attached to the school parking lot) Fees: 5K Run: $20 pre-registration\; $25 same day registration Student Rate (18 and under): $15 pre-registration\; $20 same day registration. Register online at hermescleveland.com. Online registration closes on October 24th at 9 am Deadline for mail in registration is October 20th Awards: Awards provided to top overall female and male runners. Runners in the top three in each of the following age groups (male and female): 16 and under\; 16-19\; 20-29\; 30-39\; 40-49\; 50-59 and 60+
UID:e.368.1165
SEQUENCE:3
DTSTAMP:20260420T003341Z
URL:https://public.beachwood.org/events/details/2014-beachwood-5k-run-celebrating-healthcare-in-the-beachwood-community-10-26-2014-1165
END:VEVENT

END:VCALENDAR
