BEGIN:VCALENDAR
VERSION:2.0
PRODID:-//ChamberMaster//Event Calendar 2.0//EN
METHOD:PUBLISH
X-PUBLISHED-TTL:P3D
REFRESH-INTERVAL:P3D
CALSCALE:GREGORIAN
BEGIN:VEVENT
DTSTART;VALUE=DATE:20090403
DTEND;VALUE=DATE:20090406
TRANSP:TRANSPARENT
X-MICROSOFT-CDO-ALLDAYEVENT:TRUE
SUMMARY:2009 Verizon Wireless SWIM FOR DIABETES
DESCRIPTION:Support friends and family in their fight against diabetes. Join the 2009 Verizon Wireless Swim for Diabetes April 3\, 4\, and 5 at one of 69 indoor pools throughout Northeast Ohio. Earn great prizes! To register\, volunteer\, or view a list of pools and prizes\, visit www.swimfordiabetes.com.
X-ALT-DESC;FMTTYPE=text/html:Support friends and family in their fight against diabetes. Join the 2009 Verizon Wireless Swim for Diabetes April 3\, 4\, and 5 at one of 69 indoor pools throughout Northeast Ohio. Earn great prizes! To register\, volunteer\, or view a list of pools and prizes\, visit www.swimfordiabetes.com.  
LOCATION:Bally Total Fitness 3600 Park East Dr. Beachwood High School 25100 Fairmount Blvd. Beachwood Mandel JCC 26001 S Woodland Rd.
UID:e.368.170
SEQUENCE:3
DTSTAMP:20260423T192735Z
URL:https://public.beachwood.org/events/details/2009-verizon-wireless-swim-for-diabetes-04-03-2009-170
END:VEVENT

END:VCALENDAR
