BEGIN:VCALENDAR
VERSION:2.0
PRODID:-//ChamberMaster//Event Calendar 2.0//EN
METHOD:PUBLISH
X-PUBLISHED-TTL:P3D
REFRESH-INTERVAL:P3D
CALSCALE:GREGORIAN
BEGIN:VEVENT
DTSTART:20090405T140000Z
DTEND:20090405T200000Z
X-MICROSOFT-CDO-ALLDAYEVENT:FALSE
SUMMARY:2009 Verizon Wireless SCUBA FOR DIABETES
DESCRIPTION:Dive for a good cause by participating in the 11th annual Verizon Wireless SCUBA FOR DIABETES\, Sunday\, April 5\, from 10am-4pm at Cleveland State University?s Health and Physical Education Building. \n \nEarn great prizes! Visit www.scubafordiabetes.com to register or for more information.
X-ALT-DESC;FMTTYPE=text/html:Dive for a good cause by participating in the 11th annual Verizon Wireless SCUBA FOR DIABETES\, Sunday\, April 5\, from 10am-4pm at Cleveland State University?s Health and Physical Education Building. \n \nEarn great prizes! Visit www.scubafordiabetes.com to register or for more information.  \n
LOCATION:Cleveland State University Health and Physical Education Building: 2451 Euclid Avenue
UID:e.368.171
SEQUENCE:3
DTSTAMP:20260423T192634Z
URL:https://public.beachwood.org/events/details/2009-verizon-wireless-scuba-for-diabetes-04-05-2009-171
END:VEVENT

END:VCALENDAR
