BEGIN:VCALENDAR
VERSION:2.0
PRODID:-//ChamberMaster//Event Calendar 2.0//EN
METHOD:PUBLISH
X-PUBLISHED-TTL:P3D
REFRESH-INTERVAL:P3D
CALSCALE:GREGORIAN
BEGIN:VEVENT
DTSTART;VALUE=DATE:20090228
DTEND;VALUE=DATE:20090301
TRANSP:TRANSPARENT
X-MICROSOFT-CDO-ALLDAYEVENT:TRUE
SUMMARY:2009 Senior PGA Championship-BCC Member Package
DESCRIPTION:The 2009 Senior PGA Championship\, Cleveland's first major golf Championship since 1996\, will be held May 19-24 at Canterbury Golf Club in Beachwood. The event will be a tremendous asset for Northeast Ohio\, including an estimated economic impact of $25 million for the area and live television coverage on NBC and the Golf Channel.   For companies looking to build and strengthen business relationships\, PGA Hospitality has both daily and weekly hospitality packages starting at just $4\,735\, including food and beverage\, parking\, golf opportunities at Canterbury and access to Clubhouse and on-site entertainment venues.  As an added value offer\, any Beachwood Chamber Member reserving a hospitality package before February 28 will receive 10 grounds tickets for both Friday and Saturday of the Championship (a $600 value!).  For more information and to sign up for the package\, click here for Special Invite to Beachwood Chamber members.
X-ALT-DESC;FMTTYPE=text/html:<div><div><em><em><font size="2"><span style="font-size: 10pt">The&nbsp\;2009 Senior PGA Championship\, Cleveland's first major golf Championship since 1996\, will be held&nbsp\;May 19-24 at Canterbury Golf Club in Beachwood. The event&nbsp\;will be a tremendous asset for Northeast Ohio\, including an estimated economic impact of $25 million for the area and live television coverage on NBC and the Golf Channel.&nbsp\; </span></font></em></em></div></div><div><div><font size="2">&nbsp\;</font></div></div><div><div><div><em><em><font size="2"><span style="font-size: 10pt">For companies looking to build and strengthen business relationships\, PGA Hospitality has both daily and weekly&nbsp\;hospitality packages starting at just $4\,735\, including food and beverage\, parking\, golf opportunities at Canterbury and access to Clubhouse and on-site entertainment venues. </span></font></em></em></div><div>&nbsp\;</div><div><strong><strong><em><font size="2"><span style="font-size: 10pt\; font-style: italic">As an added value offer\, any&nbsp\;Beachwood Chamber&nbsp\;Member reserving a&nbsp\;hospitality package&nbsp\;before February 28 will receive 10 grounds tickets for both Friday and Saturday of the Championship (a $600 value!). </span></font></em></strong></strong></div><div>&nbsp\;</div><div><font size="2"><span style="font-size: 10pt\; font-style: italic">For more information and to sign up for the package\, <a href="https://secure.chambermaster.com/FCKeditor/UserFiles/chambers/368/File/SrPGAFlier.pdf">click here</a> for&nbsp\;Special Invite to Beachwood Chamber members.</span></font></div></div></div>
LOCATION:Canterbury Golf Club Beachwood
UID:e.368.149
SEQUENCE:3
DTSTAMP:20260423T223836Z
URL:https://public.beachwood.org/events/details/2009-senior-pga-championship-bcc-member-package-02-28-2009-149
END:VEVENT

END:VCALENDAR
