BEGIN:VCALENDAR
VERSION:2.0
PRODID:-//ChamberMaster//Event Calendar 2.0//EN
METHOD:PUBLISH
X-PUBLISHED-TTL:P3D
REFRESH-INTERVAL:P3D
CALSCALE:GREGORIAN
BEGIN:VEVENT
DTSTART;VALUE=DATE:20090519
DTEND;VALUE=DATE:20090525
TRANSP:TRANSPARENT
X-MICROSOFT-CDO-ALLDAYEVENT:TRUE
SUMMARY:2009 Senior PGA Championship
DESCRIPTION:The 2009 Senior PGA Championship\, Cleveland's first major golf Championship since 1996\, will be held May 19-24 at Canterbury Golf Club in Beachwood. The event will be a tremendous asset for Northeast Ohio\, including an estimated economic impact of $25 million for the area and live television coverage on NBC and the Golf Channel.   For more information about this event\, ticket prices\, volunteer opportunities\, visit www.SeniorPGA2009.com
X-ALT-DESC;FMTTYPE=text/html:<div><div><em><em><font size="2"><span style="font-size: 10pt">The&nbsp\;2009 Senior PGA Championship\, Cleveland's first major golf Championship since 1996\, will be held&nbsp\;May 19-24 at Canterbury Golf Club in Beachwood. The event&nbsp\;will be a tremendous asset for Northeast Ohio\, including an estimated economic impact of $25 million for the area and live television coverage on NBC and the Golf Channel.&nbsp\; </span></font></em></em></div></div><div><div><font size="2">&nbsp\;</font></div></div><div><div>For more information about this event\, ticket prices\, volunteer opportunities\, visit www.SeniorPGA2009.com</div></div>
LOCATION:Canterbury Golf ClubBeachwood
UID:e.368.150
SEQUENCE:3
DTSTAMP:20260423T182909Z
URL:https://public.beachwood.org/events/details/2009-senior-pga-championship-05-19-2009-150
END:VEVENT

END:VCALENDAR
