BEGIN:VCALENDAR
VERSION:2.0
PRODID:-//ChamberMaster//Event Calendar 2.0//EN
METHOD:PUBLISH
X-PUBLISHED-TTL:P3D
REFRESH-INTERVAL:P3D
CALSCALE:GREGORIAN
BEGIN:VEVENT
DTSTART;VALUE=DATE:20081022
DTEND;VALUE=DATE:20081024
TRANSP:TRANSPARENT
X-MICROSOFT-CDO-ALLDAYEVENT:TRUE
SUMMARY:2008 Small Business Conference
DESCRIPTION:Reinvest in your business! 2008 Small Business Conference With over 50 educational workshops to choose from\, there is a workshop for every business\, every industry\, every experience level.  This is your chance to connect with over 1\,300 small business owners and entrepreneurs from Northeast Ohio. Experience world-class education\, national keynote speakers\, exhibitors\, resources and networking opportunities. The event has seven educational tracks offering practical strategies with immediate applicaiton for your business: Marketing\, Sales\, Small Business Tools\, Finance\, Profesional & Personal Development\, Human Resources\, and Technology. COSE -- the Council of Smaller Enterprises -- is offering Beachwood Chamber of Commerce members\, the opportunity to participate in its 2008 Small Business Conference at a very special rate:  $99\, a savings of $400! To participate in the COSE event\, visit www.cose.org/sbc and enter the following information:Login Name: VKXUTKPassword: QYHDYBKeynote speakers for the October 22nd and 23rd event at the IX Center include:Debbi Fields\, Founder\, Mrs. Fields CookiesMichael Symon\, Owner\, Lola and Lolita and Food Network Iron ChefJohn Moore\, Marketing Mastermind behind Starbucks and Whole FoodsFor more information on this event and to register\, please visit the COSE website: www.cose.org/sbc and use the above login and password.
X-ALT-DESC;FMTTYPE=text/html:<div align="center"><font color="#333399" size="2"><strong>Reinvest in your business!</strong></font></div><div align="center">&nbsp\;</div><div align="center"><font color="#333399" size="3"><strong>2008 Small Business Conference</strong></font></div><div>&nbsp\;</div><div><font color="#333399">With over 50 educational workshops to choose from\, there is a workshop for every business\, every industry\, every experience level.&nbsp\; This is your chance to connect with over 1\,300 small business owners and entrepreneurs from Northeast Ohio. Experience world-class education\, national keynote speakers\, exhibitors\, resources and networking opportunities. The event has&nbsp\;seven educational tracks offering practical strategies with immediate applicaiton for your business: Marketing\, Sales\, Small Business Tools\, Finance\, Profesional &amp\; Personal Development\, Human Resources\, and Technology.</font></div><div>&nbsp\;</div><div><font color="#333399"><strong>COSE </strong>-- the Council of Smaller Enterprises -- is offering Beachwood Chamber of Commerce members\, the opportunity to participate in its <em><strong>2008 Small Business Conference</strong></em> at a very special rate:&nbsp\;<strong> $99\,</strong>&nbsp\;a savings of $400!</font></div><div>&nbsp\;</div><div><font color="#333399">To participate in the COSE event\, visit </font><a href="http://www.cose.org/sbc"><font color="#333399">www.cose.org/sbc</font></a><font color="#333399"> and enter the following information:</font></div><blockquote dir="ltr" style="margin-right: 0px"><div><font color="#333399">Login Name: <strong>VKXUTK</strong></font></div><div><font color="#333399">Password: <strong>QYHDYB</strong></font></div></blockquote><div><font color="#333399">Keynote speakers for the October 22nd and 23rd event at the IX Center include:</font></div><ul><li><font color="#333399"><strong>Debbi Fields</strong>\, Founder\, Mrs. Fields Cookies</font></li><li><font color="#333399"><strong>Michael Symon</strong>\, Owner\, Lola and Lolita and Food Network Iron Chef</font></li><li><font color="#333399"><strong>John Moore</strong>\, Marketing Mastermind behind Starbucks and Whole Foods</font></li></ul><div><font color="#333399">For more information on this event and to register\, please visit the COSE website: </font><a href="http://www.coselorg/sbc"><font color="#333399">www.cose.org/sbc</font></a><font color="#333399"> and use the above login and password.</font></div><div>&nbsp\;</div><div>&nbsp\;</div>
LOCATION:IX CenterCleveland
UID:e.368.106
SEQUENCE:3
DTSTAMP:20260424T021229Z
URL:https://public.beachwood.org/events/details/2008-small-business-conference-10-22-2008-106
END:VEVENT

END:VCALENDAR
