BEGIN:VCALENDAR
VERSION:2.0
PRODID:-//ChamberMaster//Event Calendar 2.0//EN
METHOD:PUBLISH
X-PUBLISHED-TTL:P3D
REFRESH-INTERVAL:P3D
CALSCALE:GREGORIAN
BEGIN:VEVENT
DTSTART;VALUE=DATE:20080602
DTEND;VALUE=DATE:20080603
TRANSP:TRANSPARENT
X-MICROSOFT-CDO-ALLDAYEVENT:TRUE
SUMMARY:2008 Golf Outing
DESCRIPTION:Join us on June 2nd at Hawthorne Valley Country Club for the Beachwood Chamber's Annual Golf Outing presented by Northcoast Business Systems. The "golf package" includes a golf cart\, lunch\, dinner\, prizes\, and more!  Registration begins at 10:30 AM with lunch served prior to the 1:00 PM shotgun start.  This event sells out each year. We are accepting sponsors (industry exclusive by sponsorship level) along with individual golf packages. Golf Package:  $195 per personEarly Bird Special:  $175 until April 15th! Gold Sponsor: $1\,000Up to 4 golfersCompany logo on all promotional materials after April 1\, 2008Link to company website from this article!Company logo on event program and banner and company name on a golf flag at a course holeCompany may supply promotional product(s) with company name/logo for our give-away bag for each golferSilver Sponsor: $600Up to 2 golfersCompany name on event program and banner and a golf flag at a course holeLink to comapny website from this article! Dinner Only Package: $50Networking opportunitiesHors d'oeuvres and dinnerCash barGreat deals at event auctionOur GOLD sponsors ...AT&TBeachwood PlaceBranding SolutionsCleveland Clinic Sports HealthDevelopers Diversified RealtyHorizon Personnel/HP ResourcesJoseph\, Mann & CreedMeyers\, Roman\, Friedberg & LewisNational CityNordstromORG Real PropertyTodd & AssociatesOur Hole-in-One Sponsors ...Alson JewelersCrestmont Cadillac Our Silver sponsors ...Certa Pro PaintersCitizens BankStevens Worldwide Van Lines
X-ALT-DESC;FMTTYPE=text/html:<div><font color="#000080" size="2">Join us on June 2nd at Hawthorne Valley Country Club for the Beachwood Chamber&rsquo\;s Annual Golf Outing presented by </font><font color="#000080" size="2"><em><a href="http://www\,northcoastbusiness.com">Northcoast Business Systems</a>.</em></font></div><div>&nbsp\;</div><div><font color="#000080" size="2">The &quot\;golf package&quot\; includes a golf cart\, lunch\, dinner\, prizes\, and more!&nbsp\; Registration begins at 10:30 AM with lunch served prior to the 1:00 PM shotgun start.&nbsp\; This event sells out each year.</font></div><div>&nbsp\;</div><div><font color="#000080" size="2">We are accepting sponsors (industry exclusive by sponsorship level) along with individual golf packages.</font></div><div>&nbsp\;</div><div><font color="#000080" size="2"><font color="#800000">Golf Package</font>:&nbsp\; $195 per person</font></div><div><font color="#000080" size="2"><font color="#800000">Early Bird Special</font>:&nbsp\; $175 until April 15th!</font></div><div>&nbsp\;</div><div><font color="#000080" size="2"><font color="#800000">Gold Sponsor</font>: $1\,000</font></div><ul><li><font color="#000080" size="2">Up to 4 golfers</font></li><li><font color="#000080" size="2">Company logo on all promotional materials after April 1\, 2008</font></li><li><font color="#000080" size="2">Link to company website from this article!</font></li><li><font color="#000080" size="2">Company logo on event program and banner and company name on a golf flag at a course hole</font></li><li><font color="#000080" size="2">Company may supply promotional product(s) with company name/logo for our give-away bag for each golfer</font></li></ul><div><font color="#000080" size="2"><font color="#800000">Silver Sponsor</font>: $600</font></div><ul><li><font color="#000080" size="2">Up to 2 golfers</font></li><li><font color="#000080" size="2">Company name on event program and banner and a golf flag at a course hole</font></li><li><font color="#000080" size="2">Link to comapny website from this article!</font></li></ul><div>&nbsp\;<font color="#800000">Dinner Only Package</font>: <font color="#000080">$50</font></div><ul><li><font color="#000080">Networking opportunities</font></li><li><font color="#000080">Hors d&rsquo\;oeuvres and dinner</font></li><li><font color="#000080">Cash bar</font></li><li><font color="#000080">Great deals at event auction</font></li></ul><div><font color="#800000">Our GOLD sponsors ...</font></div><ul><li><font color="#000080"><a href="http://www.att.com">AT&amp\;T</a></font></li><li><font color="#000080"><a href="http://www.beachwoodplace.com">Beachwood Place</a></font></li><li><font color="#000080"><a href="http://www.brandingsolutionsinc.com">Branding Solutions</a></font></li><li><font color="#000080"><a href="http://www.sports-health.org">Cleveland Clinic Sports Health</a></font></li><li><font color="#000080"><a href="http://www.ddrc.com">Developers Diversified Realty</a></font></li><li><font color="#000080"><a href="http://www\,horizonpersonnel.com">Horizon Personnel/HP Resources</a></font></li><li><font color="#000080"><a href="http://www.jmcbiz.com">Joseph\, Mann &amp\; Creed</a></font></li><li><font color="#000080"><a href="http://www.meyersroman.com">Meyers\, Roman\, Friedberg &amp\; Lewis</a></font></li><li><font color="#000080"><a href="http://www.nationalcity.com">National City</a></font></li><li><font color="#000080"><a href="http://www.nordstrom.com">Nordstrom</a></font></li><li><font color="#000080"><a href="http://www.orgrealproperty.com">ORG Real Property</a></font></li><li><font color="#000080"><a href="http://toddassociates.com">Todd &amp\; Associates</a></font></li></ul><div><font color="#800000">Our Hole-in-One Sponsors ...</font></div><ul><li><font color="#000080"><a href="http://www.alsonjewelers.com">Alson Jewelers</a></font></li><li><font color="#000080"><a href="http://www.crestmontcadillac.com">Crestmont Cadillac</a></font></li></ul><div>&nbsp\;</div><div><font color="#800000">Our Silver sponsors ...</font></div><ul><li><font color="#000080"><a href="http://www.certapro.com">Certa Pro Painters</a></font></li><li><font color="#000080"><a href="http://www.citizensbanking.com">Citizens Bank</a></font></li><li><font color="#000080"><a href="http://www.stevensworldwide.com">Stevens Worldwide Van Lines</a></font></li></ul><div>&nbsp\;</div>
LOCATION:Hawthorne Valley Country Club27840 Aurora RoadSolon
UID:e.368.7
SEQUENCE:3
DTSTAMP:20260424T071436Z
URL:https://public.beachwood.org/events/details/2008-golf-outing-06-02-2008-7
END:VEVENT

END:VCALENDAR
