BEGIN:VCALENDAR
VERSION:2.0
PRODID:-//ChamberMaster//Event Calendar 2.0//EN
METHOD:PUBLISH
X-PUBLISHED-TTL:P3D
REFRESH-INTERVAL:P3D
CALSCALE:GREGORIAN
BEGIN:VEVENT
DTSTART;VALUE=DATE:20080512
DTEND;VALUE=DATE:20080513
TRANSP:TRANSPARENT
X-MICROSOFT-CDO-ALLDAYEVENT:TRUE
SUMMARY:2008 Annual Dinner
DESCRIPTION:This year we are a rockin' and a rollin' at our Annual Dinner! On Monday\, May 12th\, the evening begins with a VIP reception where we will express our appreciation to Doug Bennett  for all of his accomplishments during his Presidency of the Beachwood Chamber of Commerce.  We will also have an opportunity to meet the Chamber's newest Board members! And is followed by a general reception\, with background music by the Chamber's own Marc Paige and The Flashback Rock 'n Soul Band. Dinner follows with our guest speaker Mr. Terry Stewart\, President & CEO of the Rock & Roll Hall of Fame and Museum. Dancing afterward? We'll just have to wait and see! (click on links below to visit our event's sponsors!) Our Presenting Sponsor:  ORG Real Property! Our Platinum Sponsors:AT&TJoseph\, Mann & CreedOhio.netOur Gold Sponsors:Allied Door SystemsAnthem Blue Cross and Blue ShieldBogart\, Cunix & AssociatesCleveland Clinic Regional HospitalsCrestmont CadillacCuyahoga Community CollegeEnvision Radio Networks\, Inc.Hilton Cleveland East/BeachwoodMeyers\, Roman\, Friedberg & LewisNational City BankNorthcoast Business SystemsPark View Federal Savings BankSouth Pointe HospitalOur Silver Sponsors:Costco WholesaleDiamond Auto LeaseDiscovery PhotoHoneyBaked Ham Co. and Cafe of SolonLawrence P. Weissman\, CPAOhio Commerce BankSatellite Data Payroll Systems
X-ALT-DESC;FMTTYPE=text/html:<div><em><font color="#0000ff">This year we are a rockin&rsquo\; and a rollin&rsquo\; at our Annual Dinner!</font></em></div><div>&nbsp\;</div><div><font color="#000099">On <em><strong>Monday\, May 12th</strong></em>\, the evening begins&nbsp\;with a <strong><em>VIP reception</em></strong> where we will express our appreciation to Doug Bennett&nbsp\; for all of his accomplishments during his Presidency of the Beachwood Chamber of Commerce.&nbsp\; We will also have an opportunity to meet the Chamber&rsquo\;s newest Board members!</font></div><div>&nbsp\;</div><div><font color="#000099">And is followed by a <strong><em>general reception</em></strong>\, with background music by the Chamber&rsquo\;s own <strong>Marc Paige</strong> and <strong>The Flashback Rock &rsquo\;n Soul Band</strong>.</font></div><div>&nbsp\;</div><div><font color="#000099">Dinner follows with our guest speaker <strong><em>Mr. Terry Stewart</em></strong>\, President &amp\; CEO of the Rock&nbsp\;&amp\; Roll Hall of Fame and Museum.</font></div><div>&nbsp\;</div><div><font color="#0000ff"><em>Dancing afterward?</em>&nbsp\;<em>We&rsquo\;ll just have to&nbsp\;wait and see!</em></font></div><div>&nbsp\;</div><div><font color="#333399"><em>(click on links below to visit our event&rsquo\;s sponsors!)</em></font></div><div>&nbsp\;</div><div><em><font color="#800000">Our Presenting Sponsor:&nbsp\; </font><font color="#0000ff"><a href="http://www.orgrealproperty.com">ORG Real Property!</a></font></em></div><div>&nbsp\;</div><div><em><font color="#800000">Our Platinum Sponsors:</font></em></div><ul><li><font color="#0000ff"><em><a href="http://www.att.com">AT&amp\;T</a></em></font></li><li><font color="#0000ff"><em><a href="http://www.jmcbiz.com">Joseph\, Mann &amp\; Creed</a></em></font></li><li><font color="#0000ff"><em><a href="http://www.ohio.net">Ohio.net</a></em></font></li></ul><div><font color="#800000">Our Gold Sponsors:</font></div><ul><li><font color="#0000ff"><em><a href="http://www.allieddoorsystems.com">Allied Door Systems</a></em></font></li><li><font color="#0000ff"><em><a href="http://www.anthem.com">Anthem Blue Cross and Blue Shield</a></em></font></li><li><font color="#0000ff"><em><a href="http://www\,bogartcunix.com">Bogart\, Cunix &amp\; Associates</a></em></font></li><li><font color="#0000ff"><em><a href="http://www.ccf.org">Cleveland Clinic Regional Hospitals</a></em></font></li><li><font color="#0000ff"><em><a href="http://www.crestmontcadillac.com">Crestmont Cadillac</a></em></font></li><li><font color="#0000ff"><em><a href="http://www.tri-c.edu">Cuyahoga Community College</a></em></font></li><li><font color="#0000ff"><em><a href="http://www.envisionradio.com">Envision Radio Networks\, Inc.</a></em></font></li><li><font color="#0000ff"><em><a href="http://www.hilton.com">Hilton Cleveland East/Beachwood</a></em></font></li><li><font color="#0000ff"><em><a href="http://www.meyersroman.com">Meyers\, Roman\, Friedberg &amp\; Lewis</a></em></font></li><li><em><a href="http://www.nationalcity.com"><font color="#0000ff">National City</font><font color="#0000ff"> Bank</font></a></em></li><li><font color="#0000ff"><em><a href="http://www.northcoastbusiness.com">Northcoast Business Systems</a></em></font></li><li><font color="#0000ff"><em><a href="http://www.pvfsb.com">Park View Federal Savings Bank</a></em></font></li><li><font color="#0000ff"><em><a href="http://www.southpointehospital.org">South Pointe Hospital</a></em></font></li></ul><div><font color="#800000">Our Silver Sponsors:</font></div><ul><li><em><font color="#0000ff"><a href="http://www.costco.com">Costco Wholesale</a></font></em></li><li><em><font color="#0000ff"><a href="http://www.diamondautolease.com">Diamond Auto Lease</a></font></em></li><li><em><font color="#0000ff"><a href="http://www.scotttmorrison.com">Discovery Photo</a></font></em></li><li><em><font color="#0000ff"><a href="http://www.honeybakedonline.com">HoneyBaked Ham Co. and Cafe of Solon</a></font></em></li><li><em><font color="#0000ff"><a href="http://www.weissmancpa.com">Lawrence P. Weissman\, CPA</a></font></em></li><li><em><font color="#0000ff"><a href="http://www.ohiocommercebank.com">Ohio Commerce Bank</a></font></em></li><li><em><font color="#0000ff"><a href="http://www.satellitedataohio.com">Satellite Data Payroll Systems</a></font></em></li></ul>
LOCATION:Hilton Cleveland East/Beachwood3663 Park East DriveBeachwood
UID:e.368.8
SEQUENCE:3
DTSTAMP:20260424T084549Z
URL:https://public.beachwood.org/events/details/2008-annual-dinner-05-12-2008-8
END:VEVENT

END:VCALENDAR
