BEGIN:VCALENDAR
VERSION:2.0
PRODID:-//ChamberMaster//Event Calendar 2.0//EN
METHOD:PUBLISH
X-PUBLISHED-TTL:P3D
REFRESH-INTERVAL:P3D
CALSCALE:GREGORIAN
BEGIN:VEVENT
DTSTART:20080926T154500Z
DTEND:20080926T172500Z
X-MICROSOFT-CDO-ALLDAYEVENT:FALSE
SUMMARY:2008-09 GLOBAL GATEWAY SERIES
DESCRIPTION:The Global Gateway is a professional development series presented by leading law and business faculty to help companies make informed business decision and pursue sound strategic growth.The first in the 2008-09 series which will meet on Friday\, September 26\, 2008\, 11:45 AM-1:15 PM at the Beachwood Chamber of Commerce Business Development Center will focus on ...Litigation and How to Avoid It\nThe event is sponsored by Cleveland State University\, Nance College of Business Administration\, Cleveland-Marshall College of Law\, and the presenter will be Prof. Steven Werber.In his presentation\, Prof. Werber will discuss ow the litigation process operates and how businesses can structure their operations to avoid thlitigation\, including how to draft contracts that minimize such risks.The series will meet the last Friday of each month at the Chamber offices. The cost for lecture and lunch is $6 payable through online registration at CSU (www.csuohio.edu/business/global/gateway). Additional information regarding cost and registration will be available online as soon as available. In the meantime\, mark your calendar for Friday\, September 28th.
X-ALT-DESC;FMTTYPE=text/html:<p>&nbsp\;</p><p><font color="#000080">The Global Gateway is a professional development series presented by leading law and business faculty to help companies make informed business decision and pursue sound strategic growth.</font></p><p><font color="#000080">The first in the 2008-09 series which will meet on Friday\, September 26\, 2008\, 11:45 AM-1:15 PM at the Beachwood Chamber of Commerce Business Development Center will focus on ...</font></p><p align="center"><font color="#000080"><font size="3"><strong>Litigation and How to Avoid It</strong><br /></font></font><p><font color="#000080">The event&nbsp\;is&nbsp\;sponsored by Cleveland State University\, Nance College of Business Administration\, Cleveland-Marshall College of Law\, and the presenter will be&nbsp\;<strong>Prof. S</strong></font><font color="#000080"><strong>teven Werber.</strong></font></p><p><font color="#000080" size="3"><font size="2">In his presentation\, Prof. Werber will discuss ow the litigation&nbsp\;</font></font><font color="#000080" size="3"><font size="2">process operates and how businesses can structure their operations to avoid thlitigation\, including how to draft contracts that minimize such risks.</font></font></p><p align="left"><font color="#000080" size="3"><font size="2">The series will meet the last Friday of each month at the Chamber offices.&nbsp\;</font></font></p><p align="left"><font color="#000080" size="3"><font size="2">The cost for lecture and lunch is $6 payable through online registration at CSU (<a href="http://www.csuohio.edu/business/global/gateway">www.csuohio.edu/business/global/gateway</a>). </font></font></p><p align="left"><font color="#000080" size="3"><font size="2">Additional information regarding cost and registration will be available online as soon as available. In the meantime\, mark your calendar for Friday\, September 28th.</font></font></p></p>
LOCATION:Beachwood Chamber of CommerceThree Commerce Park Square23230 Chagrin Blvd\, Suite 900Beachwood\, OH 44122216-831-0003
UID:e.368.80
SEQUENCE:3
DTSTAMP:20260424T032147Z
URL:https://public.beachwood.org/events/details/2008-09-global-gateway-series-09-26-2008-80
END:VEVENT

END:VCALENDAR
