BEGIN:VCALENDAR
VERSION:2.0
PRODID:-//ChamberMaster//Event Calendar 2.0//EN
METHOD:PUBLISH
X-PUBLISHED-TTL:P3D
REFRESH-INTERVAL:P3D
CALSCALE:GREGORIAN
BEGIN:VEVENT
DTSTART;VALUE=DATE:20080814
DTEND;VALUE=DATE:20080816
TRANSP:TRANSPARENT
X-MICROSOFT-CDO-ALLDAYEVENT:TRUE
SUMMARY:10th Annual Business Continuity Conference
DESCRIPTION:The American Red Cross of Greater Cleveland Business Emergency Planning Association will be holding its 10th Annual Business Continuity Conference on August 14-15\, 2008 at Hawthorne Valley Country Club.  This conference will be of interest and benefit anyone who owns\, leads or assists a business\, nonprofit or government agency. Keynote speaker is Fred Klapetzky of Marsh Risk Consulting\, who has been working in information systems design\, operations and disaster recovery/business continuity since 1981.  His topic will be "Business Continuity: Security\, Availability\, Integrity and Emergency Planning." Other topics/speakers include among others:Business Continuity and Emergnecy Planing 101 with Dr. Nancy Grant\, University of Akron\, and Bruce Hennes\, Hennes Communications.Emergency Succession Planning--The Key to Organizational Success with Tom Tomasula\, ERCGovernment and Community Partners with John Blust\, Cuyahoga County Emergency Management AgencyEmergency Response: How We Planned and What Really Happened with Rick Artino\, Nestle Corp.Employee Theft: How to Keep It Out of Your Business with Virginia Davidson\, Calfee\, Halter & Grisworld LLPYou may register at http://bepaconference08.eventbrite.com.
X-ALT-DESC;FMTTYPE=text/html:<div>The American Red Cross of Greater Cleveland Business Emergency Planning Association will be holding its 10th Annual Business Continuity Conference on August 14-15\, 2008 at Hawthorne Valley Country Club.&nbsp\; This conference will be of interest and benefit anyone who owns\, leads or assists a business\, nonprofit or government agency.</div><div>&nbsp\;</div><div>Keynote speaker is Fred Klapetzky of Marsh Risk Consulting\, who has been working in information systems design\, operations and disaster recovery/business continuity since 1981.&nbsp\; His topic will be &quot\;Business Continuity: Security\, Availability\, Integrity and Emergency Planning.&quot\;</div><div>&nbsp\;</div><div>Other topics/speakers include among others:</div><ul><li>Business Continuity and Emergnecy Planing 101 with Dr. Nancy Grant\, University of Akron\, and Bruce Hennes\, Hennes Communications.</li><li>Emergency Succession Planning--The Key to Organizational Success with Tom Tomasula\, ERC</li><li>Government and Community Partners with John Blust\, Cuyahoga County Emergency Management Agency</li><li>Emergency Response: How We Planned and What Really Happened with Rick Artino\, Nestle Corp.</li><li>Employee Theft: How to Keep It Out of Your Business with Virginia Davidson\, Calfee\, Halter &amp\; Grisworld LLP</li></ul><div>You may register at <a href="http://bepaconference08.eventbrite.com">http://bepaconference08.eventbrite.com</a>.</div><div>&nbsp\;</div>
LOCATION:Hawthorne Valley Country Club27840 Aurora RoadSolon
UID:e.368.55
SEQUENCE:3
DTSTAMP:20260424T043941Z
URL:https://public.beachwood.org/events/details/10th-annual-business-continuity-conference-08-14-2008-55
END:VEVENT

END:VCALENDAR
