BEGIN:VCALENDAR
VERSION:2.0
PRODID:-//ChamberMaster//Event Calendar 2.0//EN
METHOD:PUBLISH
X-PUBLISHED-TTL:P3D
REFRESH-INTERVAL:P3D
CALSCALE:GREGORIAN
BEGIN:VEVENT
DTSTART:20080906T150000Z
DTEND:20080906T220000Z
X-MICROSOFT-CDO-ALLDAYEVENT:FALSE
SUMMARY:10\,000 Visions of Cleveland
DESCRIPTION:Experience one of the largest economic development events this year\, showcasing positive visions for Cleveland. Attend 10\,000 Visions of Cleveland and learn first hand about what the Greater Cleveland Partnership (GCP) and its 40+ economic partners are doing to advance the region at the Galleria at Erieview.  Then celebrate these "visions" at a Block Party on West 6th Street where you will enjoy live bands\, apartment tours\, signature drinks\, and appetizer specials.
X-ALT-DESC;FMTTYPE=text/html:<div><font color="#000080">Experience one of the largest economic development events this year\, showcasing positive visions for Cleveland.</font></div><div>&nbsp\;</div><div><font color="#000080">Attend <font size="2"><em><strong>10\,000 Visions of Cleveland</strong></em></font> and learn first hand about what the Greater Cleveland Partnership (GCP) and its <strong><em>40+ economic partners</em></strong> are doing to advance the region at the Galleria at Erieview.&nbsp\; Then celebrate these <em><strong>&quot\;visions&quot\;</strong></em> at a Block Party on West 6th Street where you will enjoy live bands\, apartment tours\, signature drinks\, and appetizer specials.</font></div>
LOCATION:Galleria at Erieview
UID:e.368.79
SEQUENCE:3
DTSTAMP:20260424T044140Z
URL:https://public.beachwood.org/events/details/10-000-visions-of-cleveland-09-06-2008-79
END:VEVENT

END:VCALENDAR
